BEGIN:VCALENDAR
VERSION:2.0
PRODID:-//International Centre for Climate Change and Development (ICCCAD) - ECPv4.8.2//NONSGML v1.0//EN
CALSCALE:GREGORIAN
METHOD:PUBLISH
X-WR-CALNAME:International Centre for Climate Change and Development (ICCCAD)
X-ORIGINAL-URL:http://beta.icccad.net
X-WR-CALDESC:Events for International Centre for Climate Change and Development (ICCCAD)
BEGIN:VEVENT
DTSTART;TZID=UTC+6:20200211T150000
DTEND;TZID=UTC+6:20200211T170000
DTSTAMP:20260423T221456
CREATED:20200211T051820Z
LAST-MODIFIED:20200211T052411Z
UID:7279-1581433200-1581440400@beta.icccad.net
SUMMARY:Roundtable Discussion on: ‘Understanding Transformative Adaptation in the Bangladesh Sundarbans’
DESCRIPTION:The roundtable is organized jointly by the International Centre of Climate Change and Development (ICCCAD) and Caritas Bangladesh as part of an on-going research project\, TAPTESTRY conducted in the Bangladesh Sundarbans. \nAgenda: \n3:00pm- 3:15 pm: Welcome Tea and Meet & Greet\n3:15pm- 3:30 pm: Presentation of TAPESTRY Project\n3:30pm- 3:45pm: Engagement of Caritas in Sundarbans\n3:45pm- 4:30pm: Round Table Discussion on Climate Change\nAdaptation in Bangladesh Sundarbans\n4:30pm- 5:00pm: Guided Exercise for Stakeholder Mapping in the\nSundarbans \nThe discussion will be followed by refreshments \n\n*Please Note This Event is Invitation Only \n\nTweet\n
URL:http://beta.icccad.net/event/roundtable-discussion-on-understanding-transformative-adaptation-in-the-bangladesh-sundarbans/
LOCATION:International Centre for Climate Change and Development\, House-27\,Road 1\, Block-A\,Bashundhara R/A\, Dhaka\, Bangladesh
CATEGORIES:Discussion
ORGANIZER;CN="ICCCAD":MAILTO:contact@icccad.net
END:VEVENT
BEGIN:VEVENT
DTSTART;TZID=UTC+6:20200211T150000
DTEND;TZID=UTC+6:20200211T170000
DTSTAMP:20260423T221456
CREATED:20200211T051820Z
LAST-MODIFIED:20200211T051820Z
UID:9385-1581433200-1581440400@beta.icccad.net
SUMMARY:Roundtable Discussion on: ‘Understanding Transformative Adaptation in the Bangladesh Sundarbans’
DESCRIPTION:				The roundtable is organized jointly by the International Centre of Climate Change and Development (ICCCAD) and Caritas Bangladesh as part of an on-going research project\, TAPTESTRY conducted in the Bangladesh Sundarbans. \nAgenda: \n3:00pm- 3:15 pm: Welcome Tea and Meet & Greet\n3:15pm- 3:30 pm: Presentation of TAPESTRY Project\n3:30pm- 3:45pm: Engagement of Caritas in Sundarbans\n3:45pm- 4:30pm: Round Table Discussion on Climate Change\nAdaptation in Bangladesh Sundarbans\n4:30pm- 5:00pm: Guided Exercise for Stakeholder Mapping in the\nSundarbans \nThe discussion will be followed by refreshments \n\n*Please Note This Event is Invitation Only		 \n\nTweet\n
URL:http://beta.icccad.net/event/roundtable-discussion-on-understanding-transformative-adaptation-in-the-bangladesh-sundarbans-2/
LOCATION:International Centre for Climate Change and Development\, House-27\,Road 1\, Block-A\,Bashundhara R/A\, Dhaka\, Bangladesh
CATEGORIES:Discussion
ORGANIZER;CN="ICCCAD":MAILTO:contact@icccad.net
END:VEVENT
END:VCALENDAR